{
 "currentVersion": 11.1,
 "serviceDescription": "Ingham_2010",
 "name": "Ingham_2010",
 "description": "",
 "extent": {
  "xmin": 13055000,
  "ymin": 330000,
  "xmax": 13190000,
  "ymax": 470000,
  "spatialReference": {
   "wkt": "PROJCS[\"NAD_1983_HARN_Michigan_South\",GEOGCS[\"GCS_North_American_1983_HARN\",DATUM[\"D_North_American_1983_HARN\",SPHEROID[\"GRS_1980\",6378137.0,298.257222101]],PRIMEM[\"Greenwich\",0.0],UNIT[\"Degree\",0.0174532925199433]],PROJECTION[\"Lambert_Conformal_Conic\"],PARAMETER[\"false_easting\",13123359.58005249],PARAMETER[\"false_northing\",0.0],PARAMETER[\"central_meridian\",-84.36666666666666],PARAMETER[\"standard_parallel_1\",42.1],PARAMETER[\"standard_parallel_2\",43.66666666666666],PARAMETER[\"latitude_of_origin\",41.5],UNIT[\"Foot\",0.3048]]"
  }
 },
 "initialExtent": {
  "xmin": 13055000,
  "ymin": 330000,
  "xmax": 13190000,
  "ymax": 470000,
  "spatialReference": {
   "wkt": "PROJCS[\"NAD_1983_HARN_Michigan_South\",GEOGCS[\"GCS_North_American_1983_HARN\",DATUM[\"D_North_American_1983_HARN\",SPHEROID[\"GRS_1980\",6378137.0,298.257222101]],PRIMEM[\"Greenwich\",0.0],UNIT[\"Degree\",0.0174532925199433]],PROJECTION[\"Lambert_Conformal_Conic\"],PARAMETER[\"false_easting\",13123359.58005249],PARAMETER[\"false_northing\",0.0],PARAMETER[\"central_meridian\",-84.36666666666666],PARAMETER[\"standard_parallel_1\",42.1],PARAMETER[\"standard_parallel_2\",43.66666666666666],PARAMETER[\"latitude_of_origin\",41.5],UNIT[\"Foot\",0.3048]]"
  }
 },
 "fullExtent": {
  "xmin": 13055000,
  "ymin": 330000,
  "xmax": 13190000,
  "ymax": 470000,
  "spatialReference": {
   "wkt": "PROJCS[\"NAD_1983_HARN_Michigan_South\",GEOGCS[\"GCS_North_American_1983_HARN\",DATUM[\"D_North_American_1983_HARN\",SPHEROID[\"GRS_1980\",6378137.0,298.257222101]],PRIMEM[\"Greenwich\",0.0],UNIT[\"Degree\",0.0174532925199433]],PROJECTION[\"Lambert_Conformal_Conic\"],PARAMETER[\"false_easting\",13123359.58005249],PARAMETER[\"false_northing\",0.0],PARAMETER[\"central_meridian\",-84.36666666666666],PARAMETER[\"standard_parallel_1\",42.1],PARAMETER[\"standard_parallel_2\",43.66666666666666],PARAMETER[\"latitude_of_origin\",41.5],UNIT[\"Foot\",0.3048]]"
  }
 },
 "sortableFields": "",
 "bandCount": 3,
 "pixelType": "U8",
 "minValues": [
  52,
  60,
  38
 ],
 "maxValues": [
  255,
  255,
  255
 ],
 "meanValues": [
  135.95322793149,
  142.43061045235,
  103.23232323232
 ],
 "stdvValues": [
  24.228604185355,
  20.619642264164,
  23.526978328528
 ],
 "hasMultidimensions": false,
 "pixelSizeX": 0.5,
 "pixelSizeY": 0.5,
 "datasetFormat": "MrSID",
 "uncompressedSize": 226800000000,
 "blockWidth": 1024,
 "blockHeight": 128,
 "compressionType": "Wavelet (MG3)",
 "bandNames": [
  "Band_1",
  "Band_2",
  "Band_3"
 ],
 "allowCopy": true,
 "allowAnalysis": true,
 "itemAccess": false,
 "minPixelSize": 0,
 "maxPixelSize": 0,
 "copyrightText": "",
 "serviceDataType": "esriImageServiceDataTypeRGB",
 "serviceSourceType": "esriImageServiceSourceTypeDataset",
 "objectIdField": "",
 "fields": [],
 "capabilities": "Image,Metadata,Mensuration",
 "defaultMosaicMethod": "Center",
 "allowedMosaicMethods": "",
 "sortField": "",
 "sortValue": null,
 "sortAscending": true,
 "mosaicOperator": "First",
 "defaultCompressionQuality": 75,
 "defaultResamplingMethod": "Bilinear",
 "maxImageHeight": 4100,
 "maxImageWidth": 15000,
 "allowRasterFunction": true,
 "rasterFunctionInfos": [
  {
   "name": "None",
   "description": "",
   "help": ""
  }
 ],
 "rasterTypeInfos": [
  {
   "name": "Raster Dataset",
   "description": "Supports all ArcGIS Raster Datasets",
   "help": ""
  }
 ],
 "mensurationCapabilities": "Basic",
 "hasHistograms": true,
 "hasColormap": false,
 "hasRasterAttributeTable": false,
 "minScale": 0,
 "maxScale": 0,
 "exportTilesAllowed": false,
 "supportsStatistics": false,
 "supportsAdvancedQueries": false,
 "editFieldsInfo": null,
 "ownershipBasedAccessControlForRasters": null,
 "allowComputeTiePoints": false,
 "useStandardizedQueries": true,
 "advancedQueryCapabilities": {
  "useStandardizedQueries": true,
  "supportsStatistics": false,
  "supportsOrderBy": false,
  "supportsDistinct": false,
  "supportsPagination": false
 },
 "spatialReference": {
  "wkt": "PROJCS[\"NAD_1983_HARN_Michigan_South\",GEOGCS[\"GCS_North_American_1983_HARN\",DATUM[\"D_North_American_1983_HARN\",SPHEROID[\"GRS_1980\",6378137.0,298.257222101]],PRIMEM[\"Greenwich\",0.0],UNIT[\"Degree\",0.0174532925199433]],PROJECTION[\"Lambert_Conformal_Conic\"],PARAMETER[\"false_easting\",13123359.58005249],PARAMETER[\"false_northing\",0.0],PARAMETER[\"central_meridian\",-84.36666666666666],PARAMETER[\"standard_parallel_1\",42.1],PARAMETER[\"standard_parallel_2\",43.66666666666666],PARAMETER[\"latitude_of_origin\",41.5],UNIT[\"Foot\",0.3048]]"
 }
}
