{
 "currentVersion": 11.1,
 "serviceDescription": "TriCounty_2015",
 "name": "TriCounty_2015",
 "description": "",
 "extent": {
  "xmin": 1.3033250000002E7,
  "ymin": 399000.000002,
  "xmax": 1.3124500000002E7,
  "ymax": 495250.000002,
  "spatialReference": {
   "wkt": "PROJCS[\"NAD_1983_Michigan_South_ft\",GEOGCS[\"GCS_North_American_1983\",DATUM[\"D_North_American_1983\",SPHEROID[\"GRS_1980\",6378137.0,298.257222101]],PRIMEM[\"Greenwich\",0.0],UNIT[\"Degree\",0.0174532925199433]],PROJECTION[\"Lambert_Conformal_Conic\"],PARAMETER[\"false_easting\",13123359.58],PARAMETER[\"false_northing\",0.0],PARAMETER[\"central_meridian\",-84.36666666666666],PARAMETER[\"standard_parallel_1\",42.1],PARAMETER[\"standard_parallel_2\",43.66666666666666],PARAMETER[\"latitude_of_origin\",41.5],UNIT[\"Foot\",0.3048]]"
  }
 },
 "initialExtent": {
  "xmin": 1.3033250000002E7,
  "ymin": 399000.000002,
  "xmax": 1.3124500000002E7,
  "ymax": 495250.000002,
  "spatialReference": {
   "wkt": "PROJCS[\"NAD_1983_Michigan_South_ft\",GEOGCS[\"GCS_North_American_1983\",DATUM[\"D_North_American_1983\",SPHEROID[\"GRS_1980\",6378137.0,298.257222101]],PRIMEM[\"Greenwich\",0.0],UNIT[\"Degree\",0.0174532925199433]],PROJECTION[\"Lambert_Conformal_Conic\"],PARAMETER[\"false_easting\",13123359.58],PARAMETER[\"false_northing\",0.0],PARAMETER[\"central_meridian\",-84.36666666666666],PARAMETER[\"standard_parallel_1\",42.1],PARAMETER[\"standard_parallel_2\",43.66666666666666],PARAMETER[\"latitude_of_origin\",41.5],UNIT[\"Foot\",0.3048]]"
  }
 },
 "fullExtent": {
  "xmin": 1.3033250000002E7,
  "ymin": 399000.000002,
  "xmax": 1.3124500000002E7,
  "ymax": 495250.000002,
  "spatialReference": {
   "wkt": "PROJCS[\"NAD_1983_Michigan_South_ft\",GEOGCS[\"GCS_North_American_1983\",DATUM[\"D_North_American_1983\",SPHEROID[\"GRS_1980\",6378137.0,298.257222101]],PRIMEM[\"Greenwich\",0.0],UNIT[\"Degree\",0.0174532925199433]],PROJECTION[\"Lambert_Conformal_Conic\"],PARAMETER[\"false_easting\",13123359.58],PARAMETER[\"false_northing\",0.0],PARAMETER[\"central_meridian\",-84.36666666666666],PARAMETER[\"standard_parallel_1\",42.1],PARAMETER[\"standard_parallel_2\",43.66666666666666],PARAMETER[\"latitude_of_origin\",41.5],UNIT[\"Foot\",0.3048]]"
  }
 },
 "sortableFields": "",
 "bandCount": 3,
 "pixelType": "U8",
 "minValues": [
  7,
  15,
  12
 ],
 "maxValues": [
  255,
  255,
  255
 ],
 "meanValues": [
  170.16146572104,
  163.11063829787,
  149.8414893617
 ],
 "stdvValues": [
  65.569759143707,
  70.17632338879,
  79.251559885935
 ],
 "hasMultidimensions": false,
 "pixelSizeX": 0.25,
 "pixelSizeY": 0.25,
 "datasetFormat": "MrSID",
 "uncompressedSize": 421575000000,
 "blockWidth": 1024,
 "blockHeight": 128,
 "compressionType": "Wavelet (MG3)",
 "bandNames": [
  "Band_1",
  "Band_2",
  "Band_3"
 ],
 "allowCopy": true,
 "allowAnalysis": true,
 "itemAccess": false,
 "minPixelSize": 0,
 "maxPixelSize": 0,
 "copyrightText": "",
 "serviceDataType": "esriImageServiceDataTypeRGB",
 "serviceSourceType": "esriImageServiceSourceTypeDataset",
 "objectIdField": "",
 "fields": [],
 "capabilities": "Mensuration,Image,Metadata",
 "defaultMosaicMethod": "Center",
 "allowedMosaicMethods": "",
 "sortField": "",
 "sortValue": null,
 "sortAscending": true,
 "mosaicOperator": "First",
 "defaultCompressionQuality": 75,
 "defaultResamplingMethod": "Bilinear",
 "maxImageHeight": 4100,
 "maxImageWidth": 15000,
 "allowRasterFunction": true,
 "rasterFunctionInfos": [
  {
   "name": "None",
   "description": "",
   "help": ""
  }
 ],
 "rasterTypeInfos": [
  {
   "name": "Raster Dataset",
   "description": "Supports all ArcGIS Raster Datasets",
   "help": ""
  }
 ],
 "mensurationCapabilities": "Basic",
 "hasHistograms": true,
 "hasColormap": false,
 "hasRasterAttributeTable": false,
 "minScale": 0,
 "maxScale": 0,
 "exportTilesAllowed": false,
 "supportsStatistics": false,
 "supportsAdvancedQueries": false,
 "editFieldsInfo": null,
 "ownershipBasedAccessControlForRasters": null,
 "allowComputeTiePoints": false,
 "useStandardizedQueries": true,
 "advancedQueryCapabilities": {
  "useStandardizedQueries": true,
  "supportsStatistics": false,
  "supportsOrderBy": false,
  "supportsDistinct": false,
  "supportsPagination": false
 },
 "spatialReference": {
  "wkt": "PROJCS[\"NAD_1983_Michigan_South_ft\",GEOGCS[\"GCS_North_American_1983\",DATUM[\"D_North_American_1983\",SPHEROID[\"GRS_1980\",6378137.0,298.257222101]],PRIMEM[\"Greenwich\",0.0],UNIT[\"Degree\",0.0174532925199433]],PROJECTION[\"Lambert_Conformal_Conic\"],PARAMETER[\"false_easting\",13123359.58],PARAMETER[\"false_northing\",0.0],PARAMETER[\"central_meridian\",-84.36666666666666],PARAMETER[\"standard_parallel_1\",42.1],PARAMETER[\"standard_parallel_2\",43.66666666666666],PARAMETER[\"latitude_of_origin\",41.5],UNIT[\"Foot\",0.3048]]"
 }
}
