{
 "currentVersion": 11.1,
 "serviceDescription": "TriCounty_2020",
 "name": "TriCounty_2020",
 "description": "",
 "extent": {
  "xmin": 13022500,
  "ymin": 395000,
  "xmax": 13125000,
  "ymax": 495000,
  "spatialReference": {
   "wkt": "PROJCS[\"NAD_1983_2011_StatePlane_Michigan_South_FIPS_2113_Ft_Intl\",GEOGCS[\"GCS_NAD83_2011\",DATUM[\"D_NAD83_National_Spatial_Reference_System_2011\",SPHEROID[\"GRS_1980\",6378137.0,298.257222101]],PRIMEM[\"Greenwich\",0.0],UNIT[\"Degree\",0.0174532925199433]],PROJECTION[\"Lambert_Conformal_Conic\"],PARAMETER[\"false_easting\",13123359.58],PARAMETER[\"false_northing\",0.0],PARAMETER[\"central_meridian\",-84.36666666666666],PARAMETER[\"standard_parallel_1\",42.1],PARAMETER[\"standard_parallel_2\",43.66666666666666],PARAMETER[\"latitude_of_origin\",41.5],UNIT[\"Foot\",0.3048]]"
  }
 },
 "initialExtent": {
  "xmin": 13022500,
  "ymin": 395000,
  "xmax": 13125000,
  "ymax": 495000,
  "spatialReference": {
   "wkt": "PROJCS[\"NAD_1983_2011_StatePlane_Michigan_South_FIPS_2113_Ft_Intl\",GEOGCS[\"GCS_NAD83_2011\",DATUM[\"D_NAD83_National_Spatial_Reference_System_2011\",SPHEROID[\"GRS_1980\",6378137.0,298.257222101]],PRIMEM[\"Greenwich\",0.0],UNIT[\"Degree\",0.0174532925199433]],PROJECTION[\"Lambert_Conformal_Conic\"],PARAMETER[\"false_easting\",13123359.58],PARAMETER[\"false_northing\",0.0],PARAMETER[\"central_meridian\",-84.36666666666666],PARAMETER[\"standard_parallel_1\",42.1],PARAMETER[\"standard_parallel_2\",43.66666666666666],PARAMETER[\"latitude_of_origin\",41.5],UNIT[\"Foot\",0.3048]]"
  }
 },
 "fullExtent": {
  "xmin": 13022500,
  "ymin": 395000,
  "xmax": 13125000,
  "ymax": 495000,
  "spatialReference": {
   "wkt": "PROJCS[\"NAD_1983_2011_StatePlane_Michigan_South_FIPS_2113_Ft_Intl\",GEOGCS[\"GCS_NAD83_2011\",DATUM[\"D_NAD83_National_Spatial_Reference_System_2011\",SPHEROID[\"GRS_1980\",6378137.0,298.257222101]],PRIMEM[\"Greenwich\",0.0],UNIT[\"Degree\",0.0174532925199433]],PROJECTION[\"Lambert_Conformal_Conic\"],PARAMETER[\"false_easting\",13123359.58],PARAMETER[\"false_northing\",0.0],PARAMETER[\"central_meridian\",-84.36666666666666],PARAMETER[\"standard_parallel_1\",42.1],PARAMETER[\"standard_parallel_2\",43.66666666666666],PARAMETER[\"latitude_of_origin\",41.5],UNIT[\"Foot\",0.3048]]"
  }
 },
 "sortableFields": "",
 "bandCount": 3,
 "pixelType": "U8",
 "minValues": [
  13,
  27,
  25
 ],
 "maxValues": [
  255,
  255,
  255
 ],
 "meanValues": [
  155.30642554051,
  154.16922610628,
  147.0009092746
 ],
 "stdvValues": [
  72.52887302893,
  72.846701380556,
  77.363350475199
 ],
 "hasMultidimensions": false,
 "pixelSizeX": 0.25,
 "pixelSizeY": 0.25,
 "datasetFormat": "MrSID",
 "uncompressedSize": 492000000000,
 "blockWidth": 1024,
 "blockHeight": 128,
 "compressionType": "Wavelet (MG3)",
 "bandNames": [
  "Band_1",
  "Band_2",
  "Band_3"
 ],
 "allowCopy": true,
 "allowAnalysis": true,
 "itemAccess": false,
 "minPixelSize": 0,
 "maxPixelSize": 0,
 "copyrightText": "",
 "serviceDataType": "esriImageServiceDataTypeRGB",
 "serviceSourceType": "esriImageServiceSourceTypeDataset",
 "objectIdField": "",
 "fields": [],
 "capabilities": "Image,Metadata,Mensuration",
 "defaultMosaicMethod": "Center",
 "allowedMosaicMethods": "",
 "sortField": "",
 "sortValue": null,
 "sortAscending": true,
 "mosaicOperator": "First",
 "defaultCompressionQuality": 75,
 "defaultResamplingMethod": "Bilinear",
 "maxImageHeight": 4100,
 "maxImageWidth": 15000,
 "allowRasterFunction": true,
 "rasterFunctionInfos": [
  {
   "name": "None",
   "description": "",
   "help": ""
  }
 ],
 "rasterTypeInfos": [
  {
   "name": "Raster Dataset",
   "description": "Supports all ArcGIS Raster Datasets",
   "help": ""
  }
 ],
 "mensurationCapabilities": "Basic",
 "hasHistograms": true,
 "hasColormap": false,
 "hasRasterAttributeTable": false,
 "minScale": 0,
 "maxScale": 0,
 "exportTilesAllowed": false,
 "supportsStatistics": false,
 "supportsAdvancedQueries": false,
 "editFieldsInfo": null,
 "ownershipBasedAccessControlForRasters": null,
 "allowComputeTiePoints": false,
 "useStandardizedQueries": true,
 "advancedQueryCapabilities": {
  "useStandardizedQueries": true,
  "supportsStatistics": false,
  "supportsOrderBy": false,
  "supportsDistinct": false,
  "supportsPagination": false
 },
 "spatialReference": {
  "wkt": "PROJCS[\"NAD_1983_2011_StatePlane_Michigan_South_FIPS_2113_Ft_Intl\",GEOGCS[\"GCS_NAD83_2011\",DATUM[\"D_NAD83_National_Spatial_Reference_System_2011\",SPHEROID[\"GRS_1980\",6378137.0,298.257222101]],PRIMEM[\"Greenwich\",0.0],UNIT[\"Degree\",0.0174532925199433]],PROJECTION[\"Lambert_Conformal_Conic\"],PARAMETER[\"false_easting\",13123359.58],PARAMETER[\"false_northing\",0.0],PARAMETER[\"central_meridian\",-84.36666666666666],PARAMETER[\"standard_parallel_1\",42.1],PARAMETER[\"standard_parallel_2\",43.66666666666666],PARAMETER[\"latitude_of_origin\",41.5],UNIT[\"Foot\",0.3048]]"
 }
}
