View In:
ArcGIS JavaScript
ArcGIS Online Map Viewer
ArcGIS Earth
Service Description: Ingham_2010
Name: Ingham_2010
Description:
Single Fused Map Cache: false
Extent:
XMin: 13055000
YMin: 330000
XMax: 13190000
YMax: 470000
Spatial Reference: PROJCS["NAD_1983_HARN_Michigan_South",GEOGCS["GCS_North_American_1983_HARN",DATUM["D_North_American_1983_HARN",SPHEROID["GRS_1980",6378137.0,298.257222101]],PRIMEM["Greenwich",0.0],UNIT["Degree",0.0174532925199433]],PROJECTION["Lambert_Conformal_Conic"],PARAMETER["false_easting",13123359.58005249],PARAMETER["false_northing",0.0],PARAMETER["central_meridian",-84.36666666666666],PARAMETER["standard_parallel_1",42.1],PARAMETER["standard_parallel_2",43.66666666666666],PARAMETER["latitude_of_origin",41.5],UNIT["Foot",0.3048]]
Initial Extent:
XMin: 13055000
YMin: 330000
XMax: 13190000
YMax: 470000
Spatial Reference: PROJCS["NAD_1983_HARN_Michigan_South",GEOGCS["GCS_North_American_1983_HARN",DATUM["D_North_American_1983_HARN",SPHEROID["GRS_1980",6378137.0,298.257222101]],PRIMEM["Greenwich",0.0],UNIT["Degree",0.0174532925199433]],PROJECTION["Lambert_Conformal_Conic"],PARAMETER["false_easting",13123359.58005249],PARAMETER["false_northing",0.0],PARAMETER["central_meridian",-84.36666666666666],PARAMETER["standard_parallel_1",42.1],PARAMETER["standard_parallel_2",43.66666666666666],PARAMETER["latitude_of_origin",41.5],UNIT["Foot",0.3048]]
Full Extent:
XMin: 13055000
YMin: 330000
XMax: 13190000
YMax: 470000
Spatial Reference: PROJCS["NAD_1983_HARN_Michigan_South",GEOGCS["GCS_North_American_1983_HARN",DATUM["D_North_American_1983_HARN",SPHEROID["GRS_1980",6378137.0,298.257222101]],PRIMEM["Greenwich",0.0],UNIT["Degree",0.0174532925199433]],PROJECTION["Lambert_Conformal_Conic"],PARAMETER["false_easting",13123359.58005249],PARAMETER["false_northing",0.0],PARAMETER["central_meridian",-84.36666666666666],PARAMETER["standard_parallel_1",42.1],PARAMETER["standard_parallel_2",43.66666666666666],PARAMETER["latitude_of_origin",41.5],UNIT["Foot",0.3048]]
Pixel Size X: 0.5
Pixel Size Y: 0.5
Band Count: 3
Pixel Type: U8
RasterFunction Infos: {"rasterFunctionInfos": [{
"name": "None",
"description": "",
"help": ""
}]}
Mensuration Capabilities: Basic
Has Histograms: true
Has Colormap: false
Has Multi Dimensions : false
Rendering Rule:
Min Scale: 0
Max Scale: 0
Copyright Text:
Service Data Type: esriImageServiceDataTypeRGB
Min Values: 52, 60, 38
Max Values: 255, 255, 255
Mean Values: 135.95322793149, 142.43061045235, 103.23232323232
Standard Deviation Values: 24.228604185355, 20.619642264164, 23.526978328528
Object ID Field:
Fields:
None
Default Mosaic Method: Center
Allowed Mosaic Methods:
SortField:
SortValue: null
Mosaic Operator: First
Default Compression Quality: 75
Default Resampling Method: Bilinear
Max Record Count: null
Max Image Height: 4100
Max Image Width: 15000
Max Download Image Count: null
Max Mosaic Image Count: null
Allow Raster Function: true
Allow Copy: true
Allow Analysis: true
Allow Compute TiePoints: false
Supports Statistics: false
Supports Advanced Queries: false
Use StandardizedQueries: true
Raster Type Infos:
Name: Raster Dataset
Description: Supports all ArcGIS Raster Datasets
Help:
Has Raster Attribute Table: false
Edit Fields Info: null
Ownership Based AccessControl For Rasters: null
Child Resources:
Info
Histograms
Statistics
Key Properties
Legend
Raster Function Infos
Supported Operations:
Export Image
Identify
Measure
Compute Histograms
Compute Statistics Histograms
Get Samples
Compute Class Statistics
Query Boundary
Compute Pixel Location
Compute Angles
Validate
Project