View In:
ArcGIS JavaScript
ArcGIS Online Map Viewer
ArcGIS Earth
Service Description: TriCounty_2015
Name: TriCounty_2015
Description:
Single Fused Map Cache: false
Extent:
XMin: 1.3033250000002E7
YMin: 399000.000002
XMax: 1.3124500000002E7
YMax: 495250.000002
Spatial Reference: PROJCS["NAD_1983_Michigan_South_ft",GEOGCS["GCS_North_American_1983",DATUM["D_North_American_1983",SPHEROID["GRS_1980",6378137.0,298.257222101]],PRIMEM["Greenwich",0.0],UNIT["Degree",0.0174532925199433]],PROJECTION["Lambert_Conformal_Conic"],PARAMETER["false_easting",13123359.58],PARAMETER["false_northing",0.0],PARAMETER["central_meridian",-84.36666666666666],PARAMETER["standard_parallel_1",42.1],PARAMETER["standard_parallel_2",43.66666666666666],PARAMETER["latitude_of_origin",41.5],UNIT["Foot",0.3048]]
Initial Extent:
XMin: 1.3033250000002E7
YMin: 399000.000002
XMax: 1.3124500000002E7
YMax: 495250.000002
Spatial Reference: PROJCS["NAD_1983_Michigan_South_ft",GEOGCS["GCS_North_American_1983",DATUM["D_North_American_1983",SPHEROID["GRS_1980",6378137.0,298.257222101]],PRIMEM["Greenwich",0.0],UNIT["Degree",0.0174532925199433]],PROJECTION["Lambert_Conformal_Conic"],PARAMETER["false_easting",13123359.58],PARAMETER["false_northing",0.0],PARAMETER["central_meridian",-84.36666666666666],PARAMETER["standard_parallel_1",42.1],PARAMETER["standard_parallel_2",43.66666666666666],PARAMETER["latitude_of_origin",41.5],UNIT["Foot",0.3048]]
Full Extent:
XMin: 1.3033250000002E7
YMin: 399000.000002
XMax: 1.3124500000002E7
YMax: 495250.000002
Spatial Reference: PROJCS["NAD_1983_Michigan_South_ft",GEOGCS["GCS_North_American_1983",DATUM["D_North_American_1983",SPHEROID["GRS_1980",6378137.0,298.257222101]],PRIMEM["Greenwich",0.0],UNIT["Degree",0.0174532925199433]],PROJECTION["Lambert_Conformal_Conic"],PARAMETER["false_easting",13123359.58],PARAMETER["false_northing",0.0],PARAMETER["central_meridian",-84.36666666666666],PARAMETER["standard_parallel_1",42.1],PARAMETER["standard_parallel_2",43.66666666666666],PARAMETER["latitude_of_origin",41.5],UNIT["Foot",0.3048]]
Pixel Size X: 0.25
Pixel Size Y: 0.25
Band Count: 3
Pixel Type: U8
RasterFunction Infos: {"rasterFunctionInfos": [{
"name": "None",
"description": "",
"help": ""
}]}
Mensuration Capabilities: Basic
Has Histograms: true
Has Colormap: false
Has Multi Dimensions : false
Rendering Rule:
Min Scale: 0
Max Scale: 0
Copyright Text:
Service Data Type: esriImageServiceDataTypeRGB
Min Values: 7, 15, 12
Max Values: 255, 255, 255
Mean Values: 170.16146572104, 163.11063829787, 149.8414893617
Standard Deviation Values: 65.569759143707, 70.17632338879, 79.251559885935
Object ID Field:
Fields:
None
Default Mosaic Method: Center
Allowed Mosaic Methods:
SortField:
SortValue: null
Mosaic Operator: First
Default Compression Quality: 75
Default Resampling Method: Bilinear
Max Record Count: null
Max Image Height: 4100
Max Image Width: 15000
Max Download Image Count: null
Max Mosaic Image Count: null
Allow Raster Function: true
Allow Copy: true
Allow Analysis: true
Allow Compute TiePoints: false
Supports Statistics: false
Supports Advanced Queries: false
Use StandardizedQueries: true
Raster Type Infos:
Name: Raster Dataset
Description: Supports all ArcGIS Raster Datasets
Help:
Has Raster Attribute Table: false
Edit Fields Info: null
Ownership Based AccessControl For Rasters: null
Child Resources:
Info
Histograms
Statistics
Key Properties
Legend
Raster Function Infos
Supported Operations:
Export Image
Identify
Measure
Compute Histograms
Compute Statistics Histograms
Get Samples
Compute Class Statistics
Query Boundary
Compute Pixel Location
Compute Angles
Validate
Project