View In:
ArcGIS JavaScript
ArcGIS Online Map Viewer
ArcGIS Earth
Service Description: TriCounty_2020
Name: TriCounty_2020
Description:
Single Fused Map Cache: false
Extent:
XMin: 13022500
YMin: 395000
XMax: 13125000
YMax: 495000
Spatial Reference: PROJCS["NAD_1983_2011_StatePlane_Michigan_South_FIPS_2113_Ft_Intl",GEOGCS["GCS_NAD83_2011",DATUM["D_NAD83_National_Spatial_Reference_System_2011",SPHEROID["GRS_1980",6378137.0,298.257222101]],PRIMEM["Greenwich",0.0],UNIT["Degree",0.0174532925199433]],PROJECTION["Lambert_Conformal_Conic"],PARAMETER["false_easting",13123359.58],PARAMETER["false_northing",0.0],PARAMETER["central_meridian",-84.36666666666666],PARAMETER["standard_parallel_1",42.1],PARAMETER["standard_parallel_2",43.66666666666666],PARAMETER["latitude_of_origin",41.5],UNIT["Foot",0.3048]]
Initial Extent:
XMin: 13022500
YMin: 395000
XMax: 13125000
YMax: 495000
Spatial Reference: PROJCS["NAD_1983_2011_StatePlane_Michigan_South_FIPS_2113_Ft_Intl",GEOGCS["GCS_NAD83_2011",DATUM["D_NAD83_National_Spatial_Reference_System_2011",SPHEROID["GRS_1980",6378137.0,298.257222101]],PRIMEM["Greenwich",0.0],UNIT["Degree",0.0174532925199433]],PROJECTION["Lambert_Conformal_Conic"],PARAMETER["false_easting",13123359.58],PARAMETER["false_northing",0.0],PARAMETER["central_meridian",-84.36666666666666],PARAMETER["standard_parallel_1",42.1],PARAMETER["standard_parallel_2",43.66666666666666],PARAMETER["latitude_of_origin",41.5],UNIT["Foot",0.3048]]
Full Extent:
XMin: 13022500
YMin: 395000
XMax: 13125000
YMax: 495000
Spatial Reference: PROJCS["NAD_1983_2011_StatePlane_Michigan_South_FIPS_2113_Ft_Intl",GEOGCS["GCS_NAD83_2011",DATUM["D_NAD83_National_Spatial_Reference_System_2011",SPHEROID["GRS_1980",6378137.0,298.257222101]],PRIMEM["Greenwich",0.0],UNIT["Degree",0.0174532925199433]],PROJECTION["Lambert_Conformal_Conic"],PARAMETER["false_easting",13123359.58],PARAMETER["false_northing",0.0],PARAMETER["central_meridian",-84.36666666666666],PARAMETER["standard_parallel_1",42.1],PARAMETER["standard_parallel_2",43.66666666666666],PARAMETER["latitude_of_origin",41.5],UNIT["Foot",0.3048]]
Pixel Size X: 0.25
Pixel Size Y: 0.25
Band Count: 3
Pixel Type: U8
RasterFunction Infos: {"rasterFunctionInfos": [{
"name": "None",
"description": "",
"help": ""
}]}
Mensuration Capabilities: Basic
Has Histograms: true
Has Colormap: false
Has Multi Dimensions : false
Rendering Rule:
Min Scale: 0
Max Scale: 0
Copyright Text:
Service Data Type: esriImageServiceDataTypeRGB
Min Values: 13, 27, 25
Max Values: 255, 255, 255
Mean Values: 155.30642554051, 154.16922610628, 147.0009092746
Standard Deviation Values: 72.52887302893, 72.846701380556, 77.363350475199
Object ID Field:
Fields:
None
Default Mosaic Method: Center
Allowed Mosaic Methods:
SortField:
SortValue: null
Mosaic Operator: First
Default Compression Quality: 75
Default Resampling Method: Bilinear
Max Record Count: null
Max Image Height: 4100
Max Image Width: 15000
Max Download Image Count: null
Max Mosaic Image Count: null
Allow Raster Function: true
Allow Copy: true
Allow Analysis: true
Allow Compute TiePoints: false
Supports Statistics: false
Supports Advanced Queries: false
Use StandardizedQueries: true
Raster Type Infos:
Name: Raster Dataset
Description: Supports all ArcGIS Raster Datasets
Help:
Has Raster Attribute Table: false
Edit Fields Info: null
Ownership Based AccessControl For Rasters: null
Child Resources:
Info
Histograms
Statistics
Key Properties
Legend
Raster Function Infos
Supported Operations:
Export Image
Identify
Measure
Compute Histograms
Compute Statistics Histograms
Get Samples
Compute Class Statistics
Query Boundary
Compute Pixel Location
Compute Angles
Validate
Project